BEGIN:VCALENDAR
VERSION:2.0
PRODID:-//Tukios.com/
BEGIN:VEVENT
UID:b56d482d-7617-4fa4-90af-9d56c6a50dff@www.finkenbinderfamily.com
DTSTAMP:20260423T103134Z
DTSTART:20260429T150000Z
DTEND:20260429T160000Z
SUMMARY:Mass
DESCRIPTION:
URL:https://www.finkenbinderfamily.com/obituaries/scott-schneider
LOCATION: 904 Mill Road  Elizabethtown PA 17022
GEO:40.1636784;-76.616293
END:VEVENT
END:VCALENDAR