BEGIN:VCALENDAR
VERSION:2.0
PRODID:-//Tukios.com/
BEGIN:VEVENT
UID:6323c1e4-013e-4e7c-9c8a-8ca32c439112@www.finkenbinderfamily.com
DTSTAMP:20260423T103225Z
DTSTART:20260429T140000Z
DTEND:20260429T150000Z
SUMMARY:Visitation
DESCRIPTION:
URL:https://www.finkenbinderfamily.com/obituaries/scott-schneider
LOCATION:St. Peter Catholic Church 904 Mill Road  Elizabethtown PA 17022
GEO:40.1636784;-76.616293
END:VEVENT
END:VCALENDAR