BEGIN:VCALENDAR
VERSION:2.0
PRODID:-//Tukios.com/
BEGIN:VEVENT
UID:49664bde-5669-4dc0-8324-c52bb38b0e19@www.finkenbinderfamily.com
DTSTAMP:20260421T010535Z
DTSTART:20260423T160000Z
DTEND:20260423T170000Z
SUMMARY:Memorial Service
DESCRIPTION:
URL:https://www.finkenbinderfamily.com/obituaries/neil-burke
LOCATION:Rothermel-Finkenbinder Funeral Home & Crematory, Inc. 25 W Pine 
	St  Palmyra PA 17078
GEO:40.3041871;-76.5912692
END:VEVENT
END:VCALENDAR