BEGIN:VCALENDAR
VERSION:2.0
PRODID:-//Tukios.com/
BEGIN:VEVENT
UID:a7843382-ca4f-4e23-b2c4-f1188c6bd517@www.finkenbinderfamily.com
DTSTAMP:20260422T184707Z
DTSTART:20260501T194500Z
DTEND:20260501T200000Z
SUMMARY:Burial
DESCRIPTION:
URL:https://www.finkenbinderfamily.com/obituaries/clarence-chuck-mummert-jr
LOCATION: Bossler Rd.  Elizabethtown PA 17022
GEO:40.1139687;-76.6007966
END:VEVENT
END:VCALENDAR