BEGIN:VCALENDAR
VERSION:2.0
PRODID:-//Tukios.com/
BEGIN:VEVENT
UID:3699fce2-a161-44f2-8227-7c4e7ef7cf39@www.finkenbinderfamily.com
DTSTAMP:20260422T184723Z
DTSTART:20260501T180000Z
DTEND:20260501T190000Z
SUMMARY:Funeral Service
DESCRIPTION:
URL:https://www.finkenbinderfamily.com/obituaries/clarence-chuck-mummert-jr
LOCATION: 2392 Mount Joy Road  Manheim PA 17545
GEO:40.1294295;-76.454953
END:VEVENT
END:VCALENDAR