BEGIN:VCALENDAR
VERSION:2.0
PRODID:-//Tukios.com/
BEGIN:VEVENT
UID:d0880451-b3de-4198-99d8-2e5fc8394ddd@www.finkenbinderfamily.com
DTSTAMP:20260422T184959Z
DTSTART:20260501T170000Z
DTEND:20260501T180000Z
SUMMARY:Viewing
DESCRIPTION:
URL:https://www.finkenbinderfamily.com/obituaries/clarence-chuck-mummert-jr
LOCATION: 2392 Mount Joy Road  Manheim PA 17545
GEO:40.1294295;-76.454953
END:VEVENT
END:VCALENDAR