BEGIN:VCALENDAR
VERSION:2.0
PRODID:-//Tukios.com/
BEGIN:VEVENT
UID:f0592548-31ea-4273-9cae-4d0aca2c3e73@www.finkenbinderfamily.com
DTSTAMP:20260422T185127Z
DTSTART:20260430T210000Z
DTEND:20260430T230000Z
SUMMARY:Viewing
DESCRIPTION:
URL:https://www.finkenbinderfamily.com/obituaries/clarence-chuck-mummert-jr
LOCATION:Miller-Finkenbinder Funeral Home & Crematory 130 N Market St  
	Elizabethtown PA 17022
GEO:40.1535295;-76.607727
END:VEVENT
END:VCALENDAR