BEGIN:VCALENDAR
VERSION:2.0
PRODID:-//Tukios.com/
BEGIN:VEVENT
UID:8bd21e41-aa1b-4067-9116-e59cebde141c@www.finkenbinderfamily.com
DTSTAMP:20260424T013210Z
DTSTART:20260428T160000Z
DTEND:20260428T170000Z
SUMMARY:Funeral Service
DESCRIPTION:
URL:https://www.finkenbinderfamily.com/obituaries/barbara-corbin
LOCATION:Rothermel-Finkenbinder Funeral Home & Crematory, Inc. 25 W Pine 
	St  Palmyra PA 17078
GEO:40.3041871;-76.5912692
END:VEVENT
END:VCALENDAR