BEGIN:VCALENDAR
VERSION:2.0
PRODID:-//Tukios.com/
BEGIN:VEVENT
UID:68fb8ab9-8e4e-4737-97f8-ec7d78015746@www.finkenbinderfamily.com
DTSTAMP:20260424T013038Z
DTSTART:20260428T150000Z
DTEND:20260428T160000Z
SUMMARY:Visitation
DESCRIPTION:
URL:https://www.finkenbinderfamily.com/obituaries/barbara-corbin
LOCATION:Rothermel-Finkenbinder Funeral Home & Crematory, Inc. 25 W Pine 
	St  Palmyra PA 17078
GEO:40.3041871;-76.5912692
END:VEVENT
END:VCALENDAR